BEGIN:VCALENDAR
VERSION:2.0
PRODID:-//Japan Tableau User Group - ECPv5.16.3.1//NONSGML v1.0//EN
CALSCALE:GREGORIAN
METHOD:PUBLISH
X-WR-CALNAME:Japan Tableau User Group
X-ORIGINAL-URL:https://jtug.jp
X-WR-CALDESC:Japan Tableau User Group のイベント
BEGIN:VTIMEZONE
TZID:Asia/Tokyo
BEGIN:STANDARD
TZOFFSETFROM:+0900
TZOFFSETTO:+0900
TZNAME:JST
DTSTART:20240101T000000
END:STANDARD
END:VTIMEZONE
BEGIN:VEVENT
DTSTART;TZID=Asia/Tokyo:20240806T200000
DTEND;TZID=Asia/Tokyo:20240806T230000
DTSTAMP:20260425T003658
CREATED:20240720T072039Z
LAST-MODIFIED:20240806T135707Z
UID:3985-1722974400-1722985200@jtug.jp
SUMMARY:8/6(火)【Tableauラジオ＃78】たぶラジ夏の特別編！Viz Gamesテクニック解説LIVE ~DeepなTableauの世界へDiveしよう！~　アーカイブ
DESCRIPTION:今回のたぶラジは日本初開催の「Viz Games」に出場した がねこさん・Chiakiさん・さかぴーさんの三人が登場。ご本人自ら当日の熱い戦いの模様を振り返りながら、Tableauテクニックや作成裏話を紹介してくれました。\nイベント当日やアーカイブでは見られなかった細かい作業部分も余すことなくお伝えしますので、\nDeepなTableau話にどっぷり浸れる2時間！お飲み物を片手にお楽しみください♪ \nアーカイブはこちらから \nChiakiさんがVizの作成過程の思考を公開してくださいました\n2024 Viz Games 優勝Vizができるまで（思考編）｜Chiaki (note.com)\n \nViz Gamesとは\n2024年6月12日に行われたSaleaforce World Tour Tokyoのコンテンツの1つ。\nTableau Conferenceの名物企画Iron Vizの興奮をそのままに、Viz GamesがWorld Tourに初登場！\n20分の制限時間内にデータを視覚的に表現し、分析結果を3分のストーリーで伝えるTableauの真髄とも言える競技。 \n当日の模様はSalesforce+にて配信されています(アーカイブ配信は2024/9/13(金)まで)。\n三人の作品やその他の情報はこちらの記事をご覧ください。\n6/12 国内初開催 #VizGames まとめ – Japan Tableau User Group (jtug.jp)
URL:https://jtug.jp/event/242806tabradio/
LOCATION:YouTube
CATEGORIES:events
ATTACH;FMTTYPE=image/jpeg:https://jtug.jp/wp-content/uploads/2024/07/240806TABRADIO.jpeg
END:VEVENT
END:VCALENDAR