BEGIN:VCALENDAR
VERSION:2.0
PRODID:-//Japan Tableau User Group - ECPv5.16.3.1//NONSGML v1.0//EN
CALSCALE:GREGORIAN
METHOD:PUBLISH
X-WR-CALNAME:Japan Tableau User Group
X-ORIGINAL-URL:https://jtug.jp
X-WR-CALDESC:Japan Tableau User Group のイベント
BEGIN:VTIMEZONE
TZID:Asia/Tokyo
BEGIN:STANDARD
TZOFFSETFROM:+0900
TZOFFSETTO:+0900
TZNAME:JST
DTSTART:20240101T000000
END:STANDARD
END:VTIMEZONE
BEGIN:VEVENT
DTSTART;TZID=Asia/Tokyo:20241121T180000
DTEND;TZID=Asia/Tokyo:20241121T193000
DTSTAMP:20260425T003734
CREATED:20241105T145945Z
LAST-MODIFIED:20250101T015835Z
UID:4645-1732212000-1732217400@jtug.jp
SUMMARY:11/21 KTUG番外編！〜Tableau Visionaryに学ぶTableau曲線表現講座〜  アーカイブ・登壇資料
DESCRIPTION:TableauとTableauコミュニティーが大好きで、いつも素敵な曲線表現のダッシュボードを作られるTableau Visionaryであるさかぴーさんが講師のスペシャル講座です。\n標準機能では作れない曲線を用いた表現の使い所や作り方について講義＆ハンズオン形式でレクチャーします。\nTableauは標準機能でも美しいチャートを作成できますが、曲線も使いこなすことでよりインパクトのある可視化表現を作成することができます。Tableauと可視化表現のディープな世界に飛び込みましょう！ \n開催場所\n京都のJR西大路駅近くにある日本新薬様の本社講堂をお借りして開催します！\nオンライン枠もあります。 \nアーカイブはこちらから\n \n登壇資料はこちらから \n作成ワークブックはこちらから \n  \n  \n 
URL:https://jtug.jp/event/24112%ef%bc%91ktug/
LOCATION:日本新薬株式会社 講堂\, 京都市南区吉祥院西ノ庄門口町14 日本新薬㈱ 本社\, 京都府\, 日本
ATTACH;FMTTYPE=image/jpeg:https://jtug.jp/wp-content/uploads/2024/11/241121ktug.jpeg
END:VEVENT
END:VCALENDAR