BEGIN:VCALENDAR
VERSION:2.0
PRODID:-//Japan Tableau User Group - ECPv5.16.3.1//NONSGML v1.0//EN
CALSCALE:GREGORIAN
METHOD:PUBLISH
X-WR-CALNAME:Japan Tableau User Group
X-ORIGINAL-URL:https://jtug.jp
X-WR-CALDESC:Japan Tableau User Group のイベント
BEGIN:VTIMEZONE
TZID:Asia/Tokyo
BEGIN:STANDARD
TZOFFSETFROM:+0900
TZOFFSETTO:+0900
TZNAME:JST
DTSTART:20250101T000000
END:STANDARD
END:VTIMEZONE
BEGIN:VEVENT
DTSTART;TZID=Asia/Tokyo:20250304T200000
DTEND;TZID=Asia/Tokyo:20250304T210000
DTSTAMP:20260424T231016
CREATED:20250224T134828Z
LAST-MODIFIED:20250306T130154Z
UID:4906-1741118400-1741122000@jtug.jp
SUMMARY:3/4【Tableauラジオ＃85】LIVE 〜オープンデータ可視化ハッカソン Round 4振り返り　アーカイブ&コメントまとめリンク集
DESCRIPTION:今回は、#オープンデータスゴイ のハッシュタグでお馴染みのVIZZIESが登場です。\n目黒区とのコラボで募集していた可視化ハッカソンイベント、\nRound4：テーマ「目黒区コラボ！施設データ」（2025/1/29〜2/23）\nに寄せられた作品を紹介します。\nスペシャルゲストとして目黒区職員の武山さまをお迎えしコメントいただきます。 \nアーカイブはこちら \n投稿された22作品を目黒区職員の武山さまはじめ。ViZZIESのメンバーが解説・感想を述べてくださつています。\n行政のトップや担当者のみなさんが見たいであろう視点を意識した素晴らしいVizも多く、お仕事にも活用できる学びもたくさんありました。 \n紹介されたVizのリンクと、最後に発表された投稿者のアンケート結果はこちらのVizにAkiさんがまとめてくださっています。\nhttps://public.tableau.com/app/profile/aki.smomo/viz/Round04/R04 \n  \n 
URL:https://jtug.jp/event/240304tabradio/
LOCATION:オンライン
CATEGORIES:events
ATTACH;FMTTYPE=image/jpeg:https://jtug.jp/wp-content/uploads/2025/02/5cdbb1bcd0e7a51092018591704d4c30.jpeg
END:VEVENT
END:VCALENDAR