BEGIN:VCALENDAR
VERSION:2.0
PRODID:-//Japan Tableau User Group - ECPv5.16.3.1//NONSGML v1.0//EN
CALSCALE:GREGORIAN
METHOD:PUBLISH
X-WR-CALNAME:Japan Tableau User Group
X-ORIGINAL-URL:https://jtug.jp
X-WR-CALDESC:Japan Tableau User Group のイベント
BEGIN:VTIMEZONE
TZID:Asia/Tokyo
BEGIN:STANDARD
TZOFFSETFROM:+0900
TZOFFSETTO:+0900
TZNAME:JST
DTSTART:20210101T000000
END:STANDARD
END:VTIMEZONE
BEGIN:VEVENT
DTSTART;TZID=Asia/Tokyo:20211102T210000
DTEND;TZID=Asia/Tokyo:20211102T220000
DTSTAMP:20260426T070820
CREATED:20211025T130000Z
LAST-MODIFIED:20211125T114016Z
UID:1174-1635886800-1635890400@jtug.jp
SUMMARY:データの民主化・データドリブンの実践をスタートからゴールまでサポート！プリンシプル×NTTデータ スポンサーコラボ #JTUGRadioNight #37
DESCRIPTION:隔週火曜日21:00~にラジオ番組形式でお送りします！普段イベントの表舞台には登場しないゲストの紹介や毎週楽しい企画を考えておりますので、ビールや某こだわっている酒場のレモンサワーのお供にどうぞ。
URL:https://jtug.jp/event/%e3%83%87%e3%83%bc%e3%82%bf%e3%81%ae%e6%b0%91%e4%b8%bb%e5%8c%96%e3%83%bb%e3%83%87%e3%83%bc%e3%82%bf%e3%83%89%e3%83%aa%e3%83%96%e3%83%b3%e3%81%ae%e5%ae%9f%e8%b7%b5%e3%82%92%e3%82%b9%e3%82%bf%e3%83%bc/
LOCATION:オンライン
END:VEVENT
END:VCALENDAR