BEGIN:VCALENDAR
VERSION:2.0
PRODID:-//Japan Tableau User Group - ECPv5.16.3.1//NONSGML v1.0//EN
CALSCALE:GREGORIAN
METHOD:PUBLISH
X-WR-CALNAME:Japan Tableau User Group
X-ORIGINAL-URL:https://jtug.jp
X-WR-CALDESC:Japan Tableau User Group のイベント
BEGIN:VTIMEZONE
TZID:Asia/Tokyo
BEGIN:STANDARD
TZOFFSETFROM:+0900
TZOFFSETTO:+0900
TZNAME:JST
DTSTART:20210101T000000
END:STANDARD
END:VTIMEZONE
BEGIN:VEVENT
DTSTART;TZID=Asia/Tokyo:20211012T210000
DTEND;TZID=Asia/Tokyo:20211012T210000
DTSTAMP:20260426T100243
CREATED:20211008T055500Z
LAST-MODIFIED:20211125T114016Z
UID:1138-1634072400-1634072400@jtug.jp
SUMMARY:【JTUGスピンオフイベント】#JTUGRadioNight 35 〜「思ってたのと違うかも？！」求職・求人 互いの立場から見るTableau転職〜
DESCRIPTION:今回の #JTUGRadioNight のテーマは転職！転職希望者と企業とのミスマッチなどについて考えます。Tableauを武器に仕事を探している方はもちろん、求人を出す側の方にも是非お聞き頂きたいです!
URL:https://jtug.jp/event/%e3%80%90jtug%e3%82%b9%e3%83%94%e3%83%b3%e3%82%aa%e3%83%95%e3%82%a4%e3%83%99%e3%83%b3%e3%83%88%e3%80%91jtugradionight-35-%e3%80%9c%e3%80%8c%e6%80%9d%e3%81%a3%e3%81%a6%e3%81%9f%e3%81%ae%e3%81%a8/
LOCATION:オンライン
END:VEVENT
END:VCALENDAR