BEGIN:VCALENDAR
VERSION:2.0
PRODID:-//Japan Tableau User Group - ECPv5.16.3.1//NONSGML v1.0//EN
CALSCALE:GREGORIAN
METHOD:PUBLISH
X-WR-CALNAME:Japan Tableau User Group
X-ORIGINAL-URL:http://jtug.jp
X-WR-CALDESC:Japan Tableau User Group のイベント
BEGIN:VTIMEZONE
TZID:Asia/Tokyo
BEGIN:STANDARD
TZOFFSETFROM:+0900
TZOFFSETTO:+0900
TZNAME:JST
DTSTART:20210101T000000
END:STANDARD
END:VTIMEZONE
BEGIN:VEVENT
DTSTART;TZID=Asia/Tokyo:20210118T183000
DTEND;TZID=Asia/Tokyo:20210118T213000
DTSTAMP:20260426T071603
CREATED:20201211T002600Z
LAST-MODIFIED:20201215T170222Z
UID:593-1610994600-1611005400@jtug.jp
SUMMARY:Tableau×snowflake×鬼滅の刃　～鬼滅の刃VIZをみんなで作る会～
DESCRIPTION:2020年の不況を吹っ飛ばす勢いの『鬼滅の刃』ブーム。\nそんな『鬼滅の刃』に関するデータをTableauで可視化しようというのが本イベントです。\nイベントで使用するデータは、2020年の日本全国の映画館情報データ(20万件超)になります。\nこのデータを素早く処理する基盤として、クラウド型DWHであるSnowflakeも体感頂きます。\nイベント内で、60分間のもくもくタイムを設けます。その中でVizを作成頂きます。 \n完了しなかった方も、イベント内でご案内する締め切りまでに提出頂くと、\n優れたVizは、JTUG Radio Nightで紹介致します。
URL:http://jtug.jp/event/tableauxsnowflakex%e9%ac%bc%e6%bb%85%e3%81%ae%e5%88%83%e3%80%80%ef%bd%9e%e9%ac%bc%e6%bb%85%e3%81%ae%e5%88%83viz%e3%82%92%e3%81%bf%e3%82%93%e3%81%aa%e3%81%a7%e4%bd%9c%e3%82%8b%e4%bc%9a/
LOCATION:オンライン
CATEGORIES:events
ATTACH;FMTTYPE=image/jpeg:http://jtug.jp/wp-content/uploads/2020/12/2232241.jpg
END:VEVENT
END:VCALENDAR